BEGIN:VCALENDAR
VERSION:2.0
PRODID:-//wp-events-plugin.com//7.2.3.1//EN
BEGIN:VEVENT
UID:710@tjalveok.se
DTSTART:20260131T090000Z
DTEND:20260131T110000Z
DTSTAMP:20251022T112302Z
URL:https://tjalveok.se/evenemang/ostgotatraning-10/
SUMMARY:Östgötaträning 10
DESCRIPTION:OK Kolmården bjuder till till träning för juniorerna\n\nTema
 : Medeldistansträning/kontrollplock\n\nAnmälan göra via eventor\n\nNär
  detta lades in i kalendern fanns det ingen information i eventor ännu s
 å tiden är preliminär
CATEGORIES:Träning
END:VEVENT
END:VCALENDAR