BEGIN:VCALENDAR
VERSION:2.0
PRODID:-//wp-events-plugin.com//7.2.3.1//EN
BEGIN:VEVENT
UID:702@tjalveok.se
DTSTART:20251025T090000Z
DTEND:20251025T110000Z
DTSTAMP:20251022T110842Z
URL:https://tjalveok.se/evenemang/ostgotatraning-1/
SUMMARY:Östgötaträning 1
DESCRIPTION:Boxholms Ok bjuder in till första Östgötaträningen för vin
 tern.\n\nTränings möjligheter för junior\n\nEventor - Tävlingsinformat
 ion: ÖGT 1 BOK\n\nAnmälan görs via eventor\n\n&nbsp\;
CATEGORIES:Träning
END:VEVENT
END:VCALENDAR