BEGIN:VCALENDAR
VERSION:2.0
PRODID:-//wp-events-plugin.com//7.2.3.1//EN
BEGIN:VEVENT
UID:231@tjalveok.se
DTSTART:20240528T164500Z
DTEND:20240528T190000Z
DTSTAMP:20240312T114807Z
URL:https://tjalveok.se/evenemang/nyborjarkurs-i-orientering-for-barn-3/
SUMMARY:Nybörjarkurs i orientering för barn
DESCRIPTION:Arrangemanget är i Svärtinge.
CATEGORIES:Tjalvearrangemang
END:VEVENT
END:VCALENDAR