BEGIN:VCALENDAR
VERSION:2.0
PRODID:-//wp-events-plugin.com//7.2.3.1//EN
BEGIN:VEVENT
UID:590@tjalveok.se
DTSTART:20250422T163000Z
DTEND:20250422T183000Z
DTSTAMP:20250413T181004Z
URL:https://tjalveok.se/evenemang/nok-traning-nais/
SUMMARY:NOK träning Nais
DESCRIPTION:Nais bjuder in till Nok träning\n\nanmälan och mera informati
 on finns i Eventor\n\nEventor - Tävlingsinformation: NAIS NOK-Träning\n\
 nOm ni behöver hjälp eller undrar ngt är det bara att ni tar kontakt me
 d ledargruppen\n\n&nbsp\;
CATEGORIES:Träning
END:VEVENT
END:VCALENDAR