BEGIN:VCALENDAR
VERSION:2.0
PRODID:-//wp-events-plugin.com//7.2.3.1//EN
BEGIN:VEVENT
UID:883@tjalveok.se
DTSTART:20260331T153000Z
DTEND:20260331T180000Z
DTSTAMP:20260316T171038Z
URL:https://tjalveok.se/evenemang/nok-traning-finspang/
SUMMARY:NOK träning Finspång
DESCRIPTION:Finspång bjuder in till NOK träning\n\nDet finns banor och ka
 rtor i alla nivåer\n\nEventor - Tävlingsinformation: NOK-träning Finsp
 ång\n\nAnmälan via Eventor
END:VEVENT
END:VCALENDAR