BEGIN:VCALENDAR
VERSION:2.0
PRODID:-//wp-events-plugin.com//7.2.3.1//EN
BEGIN:VEVENT
UID:298@tjalveok.se
DTSTART:20240820T160000Z
DTEND:20240820T180000Z
DTSTAMP:20240818T153546Z
URL:https://tjalveok.se/evenemang/nok-3/
SUMMARY:NOK och Ungdomsserien
DESCRIPTION:NOK/Ungdomsserien\, Söderköpings OK \n\nSamling: Årtlöten
 \, mellan Alboga och Liljerum i Söderköping. Vägvisning E22\, söder om
 \nSöderköping\, skärm vid ridhuset i Alboga\, därefter ca 3 km.\n\nSta
 rt U-serien: Lottade starttider med första start 18:00. Dessa klasser ska
  ej startstämpla.\nFri starttid från 17.30-18.30 för Inskolning\, Mycke
 t lätt\, Lätt och Medelsvår med startstämpling.\n\nAnmälan i Eventor 
 Via Eventor (inkludera närtävlingar) senast kl. 23.59 lördag 17 augusti
 .\nEtt begränsat antal vakansplatser finns i samtliga klasser. Eventor - 
 Tävlingsinformation: Ungdomsserien och NOK (orientering.se)\n\nLäs mer i
  Eventor - Tävlingskalender (orientering.se)\n\n&nbsp\;\n\n&nbsp\;
CATEGORIES:Träning
END:VEVENT
END:VCALENDAR