BEGIN:VCALENDAR
VERSION:2.0
PRODID:-//wp-events-plugin.com//7.2.3.1//EN
BEGIN:VEVENT
UID:795@tjalveok.se
DTSTART:20251104T180000Z
DTEND:20251104T190000Z
DTSTAMP:20251030T055449Z
URL:https://tjalveok.se/evenemang/medlemsmote/
SUMMARY:Medlemsmöte
DESCRIPTION:Klubben bjuder på korv med bröd. Så denna tisdagen är det i
 ngen soppa.\n\nAnmäl gärna om ni vill ha korv med bröd i dokumentet ned
 an\n\nAnmälan till träningar - Google Kalkylark
CATEGORIES:Tjalvearrangemang
END:VEVENT
END:VCALENDAR