BEGIN:VCALENDAR
VERSION:2.0
PRODID:-//wp-events-plugin.com//7.2.3.1//EN
BEGIN:VEVENT
UID:766@tjalveok.se
DTSTART:20260319T170000Z
DTEND:20260319T183000Z
DTSTAMP:20260304T201847Z
URL:https://tjalveok.se/evenemang/loptraning-fran-13-ar-och-uppat-18/
SUMMARY:Löpträning inför Vårruset
DESCRIPTION:Löpträning för alla som vill delta.\n\nTema: Vi springer til
 lsammans med de som vill vara med och träna inför Vårruset. Elmina Saks
 i kommer att vara på plats.\n\nSamling: Tjalvegården\n\nVi samlas kl. 18
 .00 för att springa tillsammans efter uppvärmning.\n\nBastun kommer att 
 vara på.\n\nGlöm inte anmälan i excelfilen.  &gt\; Anmälan till trä
 ningar - Google Kalkylark(senast dagen före träning kl 12)\n\n&nbsp\;
CATEGORIES:Träning
END:VEVENT
END:VCALENDAR