BEGIN:VCALENDAR
VERSION:2.0
PRODID:-//wp-events-plugin.com//7.2.3.1//EN
BEGIN:VEVENT
UID:761@tjalveok.se
DTSTART:20251211T164500Z
DTEND:20251211T174500Z
DTSTAMP:20251103T192615Z
URL:https://tjalveok.se/evenemang/loptraning-fran-13-ar-och-uppat-13/
SUMMARY:Löpträning från 13 år och uppåt
DESCRIPTION:Löpträning från 13 år och uppåt\n\nSamling: Hagebyhallen v
 id Sydvallen 58°34'15.6\, 16°11'58.8\n\nDörren är öppen kl. 17.35 til
 l 17.40.\n\nTema: Backdistans Smedby. Ingen pannlampa och löparskor\n\nAn
 svariga är Jonas Axén\, Pontus Brander och Peter Ettling\n\nGlöm inte a
 nmälan i excelfilen.  &gt\; Anmälan till träningar - Google Kalkylark
 (senast dagen före träning kl 12)\n\n&nbsp\;
CATEGORIES:Träning
END:VEVENT
END:VCALENDAR