BEGIN:VCALENDAR
VERSION:2.0
PRODID:-//wp-events-plugin.com//7.2.3.1//EN
BEGIN:VEVENT
UID:876@tjalveok.se
DTSTART:20260207T090000Z
DTEND:20260207T130000Z
DTSTAMP:20260228T153246Z
URL:https://tjalveok.se/evenemang/liu-indoor/
SUMMARY:Liu Indoor
DESCRIPTION:Linköpings OK och Lithe vilse bjuder in till Indoor på Linkö
 pings universitet\n\nInbjudan Liu indoor 2026.docx\n\nAnmälan via Eventor
 \n\nEventor - Tävlingsinformation: LiU Indoor
END:VEVENT
END:VCALENDAR