BEGIN:VCALENDAR
VERSION:2.0
PRODID:-//wp-events-plugin.com//7.2.3.1//EN
BEGIN:VEVENT
UID:888@tjalveok.se
DTSTART:20260405T090000Z
DTEND:20260405T130000Z
DTSTAMP:20260228T162347Z
URL:https://tjalveok.se/evenemang/kolmardsmedeln-swedish-league-2/
SUMMARY:Kolmårdsmedeln / Swedish League #2
DESCRIPTION:Inbjudan-Kolm-rdsmedeln-2026\n\nAnmälan via Eventor\n\nEventor
  - Tävlingsinformation: Kolmårdsmedeln (Swedish League\, #2\, WRE)
END:VEVENT
END:VCALENDAR