BEGIN:VCALENDAR
VERSION:2.0
PRODID:-//wp-events-plugin.com//7.2.3.1//EN
BEGIN:VEVENT
UID:903@tjalveok.se
DTSTART:20260529T160000Z
DTEND:20260529T180000Z
DTSTAMP:20260228T170557Z
URL:https://tjalveok.se/evenemang/kinnekullesprinten-2/
SUMMARY:Kinnekullesprinten
DESCRIPTION:Inbjudan Skara_Lidköping_sve\n\nAnmälan via Eventor\n\nEvento
 r - Tävlingsinformation: World Cup Spectator Race #1 - Kinnekullesprinten
 \, etapp 1
END:VEVENT
END:VCALENDAR