BEGIN:VCALENDAR
VERSION:2.0
PRODID:-//wp-events-plugin.com//7.2.3.1//EN
BEGIN:VEVENT
UID:408@tjalveok.se
DTSTART:20241130T123000Z
DTEND:20241130T150000Z
DTSTAMP:20241120T105007Z
URL:https://tjalveok.se/evenemang/helgtraning-hos-lok/
SUMMARY:Helgträning hos LOK
DESCRIPTION:LOK bjuder in till medeldistansträning\n\nTräningen är öppe
 n för alla träningssugna i Östergötland\n\nPlats : Samling längs Häl
 lestadsvägen förbi Grytsjön\, norr om Ljungsbro. Se\nEventor för vägb
 eskrivning. Parkering längs vägen. Samåk gärna.\n\nTid: Start mellan 9
 .45 och 11.30.\n\nAnmälan via  Eventor senast torsdagen den 28 november 
 kl 17:59.\n\nEventor - Tävlingsinformation: LOK Medeldistansträning\n\nD
 et finns 4 olika banor. 3.0 km (blå)\, 4.3 km (svart) och 5.9 km (svart).
 \n2.5 km orange med blåa inslag.\nSom bonus till 5.9 finns en extra sling
 a på 2.2 km där tanken är att man ska ta\nett annat vägval än tidigar
 e på långsträckan för att kunna jämföra.\nSkala 1:7 500 för samtlig
 a banor på grund av detaljrikedomen på vissa\nsluttningar.\n\nInbjudan m
 edeldistansträning 2024-11-30.odt\n\n&nbsp\;
CATEGORIES:Träning
END:VEVENT
END:VCALENDAR