BEGIN:VCALENDAR
VERSION:2.0
PRODID:-//wp-events-plugin.com//7.2.3.1//EN
BEGIN:VEVENT
UID:879@tjalveok.se
DTSTART:20260314T100000Z
DTEND:20260314T130000Z
DTSTAMP:20260228T154258Z
URL:https://tjalveok.se/evenemang/goteborgspremiar-medel/
SUMMARY:Göteborgspremiär\,  medel
DESCRIPTION:Inbjudan gemensam Göteborgspremiären 2026 ver5\n\nEventor - T
 ävlingsinformation: Göteborgspremiären\, medel\n\nAnmälan via Eventor
END:VEVENT
END:VCALENDAR