BEGIN:VCALENDAR
VERSION:2.0
PRODID:-//wp-events-plugin.com//7.2.3.1//EN
BEGIN:VEVENT
UID:878@tjalveok.se
DTSTART:20260313T180000Z
DTEND:20260313T200000Z
DTSTAMP:20260228T154028Z
URL:https://tjalveok.se/evenemang/goteborgpremiaen-natt-forlangd-sprint/
SUMMARY:Göteborgpremiäen\, natt\, förlängd sprint
DESCRIPTION:Inbjudan gemensam Göteborgspremiären 2026 ver5\n\nAnmälan vi
 a eventor\n\nEventor - Tävlingsinformation: Göteborgspremiären\, natt\,
  förlängd sprint
END:VEVENT
END:VCALENDAR