BEGIN:VCALENDAR
VERSION:2.0
PRODID:-//wp-events-plugin.com//7.2.3.1//EN
BEGIN:VEVENT
UID:345@tjalveok.se
DTSTART:20241007T180000Z
DTEND:20241007T193000Z
DTSTAMP:20240924T064852Z
URL:https://tjalveok.se/evenemang/fortsattning-pa-den-mentala-forelasninge
 n/
SUMMARY:Fortsättning på den Mentala föreläsningen
DESCRIPTION:Fortsättningen vänder sig till de ungdomar som deltog i före
 läsningen som Annelie höll den 26:e augusti.\n\nAnmälan i excelen för 
 träningar\n\nPlats: Tjalvegården
END:VEVENT
END:VCALENDAR