BEGIN:VCALENDAR
VERSION:2.0
PRODID:-//wp-events-plugin.com//7.2.3.1//EN
BEGIN:VEVENT
UID:346@tjalveok.se
DTSTART:20241104T180000Z
DTEND:20241104T193000Z
DTSTAMP:20240924T065059Z
URL:https://tjalveok.se/evenemang/fortsattning-pa-den-mentala-forelasninge
 n-2/
SUMMARY:Fortsättning på den Mentala föreläsningen
DESCRIPTION:Fortsättningen vänder sig till de ungdomar som deltog i före
 läsningen som Annelie höll den 26:e augusti.\n\nAnmälan i excelen för 
 träningar\n\nPlats: Tjalvegården
END:VEVENT
END:VCALENDAR