BEGIN:VCALENDAR
VERSION:2.0
PRODID:-//wp-events-plugin.com//7.2.3.1//EN
BEGIN:VEVENT
UID:324@tjalveok.se
DTSTART:20240913T230000Z
DTEND:20240913T230000Z
DTSTAMP:20240829T140954Z
URL:https://tjalveok.se/evenemang/ekorren-cup/
SUMMARY:Ekorren cup
DESCRIPTION:Den 14:e september anordnar Linköpings orienteringsklubba ungd
 omar en stafett\n\nAnmälan till stafetten görs i excelen för stafetter:
  Stafetter 2024 - Google Kalkylark\n\nEventor - Tävlingsinformation: Ekor
 ren cup (orientering.se)\n\n&nbsp\;\n\n&nbsp\;
CATEGORIES:Tävling
END:VEVENT
END:VCALENDAR