BEGIN:VCALENDAR
VERSION:2.0
PRODID:-//wp-events-plugin.com//7.2.3.1//EN
BEGIN:VEVENT
UID:793@tjalveok.se
DTSTART:20251115T120000Z
DTEND:20251116T120000Z
DTSTAMP:20251022T145337Z
URL:https://tjalveok.se/evenemang/eftersasongslager/
SUMMARY:Eftersäsongsläger
DESCRIPTION:IFK Linköping bjuder in till ÖOF Eftersäsongsläger 2025\n\n
 Lördagen 15 november till söndagen 16 november\, Valla folkhögskola i L
 inköping\n\nLägret är för alla orienterande ungdomar i Östergötland 
 11-16 år (födda 2009-2014).\n\nPreliminärt program\n\nLördag:\n13:00 i
 ncheckning\n13:30 Samling för träning\, Vallaskogen\nDusch\n17:00 Middag
 \n19:00 Samling för gemensam aktivitet\n20:30 Kvällsfika\n21:30-22 God n
 att\n\nSöndag:\n08:00 Frukost\n09:30 Samling för träning\, sprint Valla
 staden\nDusch\, packa\, städa\n12:00 Lunch\n13:00 Lägret avslutas\n\nKom
  ombytt för orienteringsträning utomhus och glöm inte att äta lunch in
 nan ni kommer på lördagen.\n\nBoende sker på hårt underlag i klassrum\
 , Valla folkhögskola. Måltider serveras i matsalen.\n\nAnmälan senast f
 redag den 24 oktober kl. 18.00 via eventor\n\nAnmälan via eventor\, under
  klubbaktiviteter.\n\nKostnad 500 kr/deltagare\, faktureras klubben i efte
 rhand
CATEGORIES:Läger
END:VEVENT
END:VCALENDAR