BEGIN:VCALENDAR
VERSION:2.0
PRODID:-//wp-events-plugin.com//7.2.3.1//EN
BEGIN:VEVENT
UID:325@tjalveok.se
DTSTART:20240824T090000Z
DTEND:20240824T130000Z
DTSTAMP:20240822T132223Z
URL:https://tjalveok.se/evenemang/dm-lang/
SUMMARY:DM lång samt öppna banor
DESCRIPTION:Tjällmo-Godegårds Ok anordnar DM lång\n\nAnmälan Via Evento
 r senast söndagen den 8 september kl. 23.59.\nAnmälan till öppna klasse
 r kan ske på tävlingsdagen vid arenan.\nVakansplatser finns i ungdomskla
 sser för anmälan på tävlingsdagen.\n\nEfteranmälan Via Eventor t.o.m.
  torsdagen 12 september kl. 23.59.\nSamling Stortorpet i Godegård.\nVägv
 isning från länsväg 1092\, ca 1 km söder Godegårds samhälle. Därifr
 ån 4km\ngrusväg.\nParkering På anvisad plats i anslutning till arenan. 
 Avgift 20kr. Samåk gärna!\nStart Första ordinarie start klockan 10.00. 
 Öppna banorna har fri starttid mellan 9.30 – 11.30.\nAvstånd till star
 t ca 500 meter.\n\nEventor - Tävlingsinformation: DM\, lång\, Östergöt
 land (orientering.se)
CATEGORIES:Tävling
END:VEVENT
END:VCALENDAR