BEGIN:VCALENDAR
VERSION:2.0
PRODID:-//wp-events-plugin.com//7.2.3.1//EN
BEGIN:VEVENT
UID:776@tjalveok.se
DTSTART:20251113T174500Z
DTEND:20251113T190000Z
DTSTAMP:20251022T122007Z
URL:https://tjalveok.se/evenemang/crossfit-fran-13-ar-och-uppat-10/
SUMMARY:Crossfit från 13 år och uppåt
DESCRIPTION:Crossfit från 13 år och uppåt\n\nSamling: Hagebyhallen vid S
 ydvallen 58°34'15.6\, 16°11'58.8\n\nDörren är öppen kl. 18:30 - 18:40
 \n\nHjälpa till med redskapen:\n\nRedskap till crossfit - Google Kalkylar
 k\n\nAnsvarig är Lena Malmström\n\nGlöm inte anmälan i excelfilen.  
 &gt\; Anmälan (senast dagen före träning kl 12)\n\n&nbsp\;
CATEGORIES:Träning
END:VEVENT
END:VCALENDAR