BEGIN:VCALENDAR
VERSION:2.0
PRODID:-//wp-events-plugin.com//7.2.3.1//EN
BEGIN:VEVENT
UID:882@tjalveok.se
DTSTART:20260327T180000Z
DTEND:20260327T191500Z
DTSTAMP:20260228T155851Z
URL:https://tjalveok.se/evenemang/borenbergsnatten/
SUMMARY:Borenbergsnatten
DESCRIPTION:Tjällmo Godegårds OK\n\nInbjudan\n\nEventor - Tävlingsinform
 ation: Borensbergsnatten\n\nAnmälan via Eventor\n\n&nbsp\;
END:VEVENT
END:VCALENDAR