BEGIN:VCALENDAR
VERSION:2.0
PRODID:-//wp-events-plugin.com//7.2.3.1//EN
BEGIN:VEVENT
UID:103@tjalveok.se
DTSTART:20240215T164000Z
DTEND:20240215T174000Z
DTSTAMP:20240119T130734Z
URL:https://tjalveok.se/evenemang/barngympa-6/
SUMMARY:Barngympa (
DESCRIPTION:Barn och ungdomsgympa\n\nVi alternerar bollekar\, lekar\, hinde
 rbanor och orientering i salen.\n\nAnsvarig Hillevi Luks (070-2033374) + f
 öräldrar\n\n&gt\; Anmälan
CATEGORIES:Träning
LOCATION:Skarphagens gymnastiksal\, Lövstagatan 38\, Norrköping\, 60380\,
  Sverige
X-APPLE-STRUCTURED-LOCATION;VALUE=URI;X-ADDRESS=Lövstagatan 38\, Norrköpi
 ng\, 60380\, Sverige;X-APPLE-RADIUS=100;X-TITLE=Skarphagens gymnastiksal:g
 eo:0,0
END:VEVENT
END:VCALENDAR