BEGIN:VCALENDAR
VERSION:2.0
PRODID:-//wp-events-plugin.com//7.2.3.1//EN
BEGIN:VEVENT
UID:123@tjalveok.se
DTSTART:20240319T170000Z
DTEND:20240319T190000Z
DTSTAMP:20240214T194916Z
URL:https://tjalveok.se/evenemang/arsmote-tjalve-ok/
SUMMARY:Årsmöte Tjalve OK
DESCRIPTION:
LOCATION:Tjalvegården\, Sprängstensgatan 20\, Norrköping\, 60379\, Sveri
 ge
X-APPLE-STRUCTURED-LOCATION;VALUE=URI;X-ADDRESS=Sprängstensgatan 20\, Norr
 köping\, 60379\, Sverige;X-APPLE-RADIUS=100;X-TITLE=Tjalvegården:geo:0,0
END:VEVENT
END:VCALENDAR