BEGIN:VCALENDAR
VERSION:2.0
PRODID:-//wp-events-plugin.com//7.2.3.1//EN
BEGIN:VEVENT
UID:571@tjalveok.se
DTSTART:20250429T164500Z
DTEND:20250429T181500Z
DTSTAMP:20250326T185941Z
URL:https://tjalveok.se/evenemang/10-mila-traning/
SUMMARY:10 mila träning
DESCRIPTION:Nyhem i Finspång\n\nSamling: Koordinater 58.700470\, 15.770561
 \n\nAnmäl i excel senast lunch dagen innan träning.\n\nAnmälan till tr
 äningar - Google Kalkylark\n\nTräningsvärdar: Lisa M
CATEGORIES:Träning
END:VEVENT
END:VCALENDAR