BEGIN:VCALENDAR
VERSION:2.0
PRODID:-//wp-events-plugin.com//7.2.3.1//EN
BEGIN:VEVENT
UID:894@tjalveok.se
DTSTART:20260502T090000Z
DTEND:20260503T150000Z
DTSTAMP:20260228T171306Z
URL:https://tjalveok.se/evenemang/10-mila-i-tranas/
SUMMARY:10-mila i Tranås
DESCRIPTION:Eventor - Tävlingsinformation: Tiomila\, Tranås (Stafettligan
 \, #3)\n\n&nbsp\;
CATEGORIES:Tävling
END:VEVENT
END:VCALENDAR